Workbook

Sheet ALL (記錄)
A1: 部別 | B1: 課程名稱、組別 | C1: 教師 | D1: 序號 | E1: 班級名稱(系級) | F1: 學號 | G1: 姓名 | H1: 性別 | I1: (下學期)50M游泳測驗 | N1: 下學期體適能檢測 | W1: 跑步測驗
I2: 未換氣 | J2: 游出距離（M） | K2: 動作(ABC) | L2: 免測 | M2: 游泳成績 | N2: 身高（㎝） | O2: 體重（㎏） | P2: 坐姿前彎(㎝) | Q2: 一分鐘仰臥起坐(次/分) | R2: 立定跳遠(㎝) | S2: 右手握力(㎏) | T2: 左手握力(㎏) | U2: 跑步(分) | V2: 跑步(秒) | W2: 跑步秒數(男1600女800) | X2: 跑步成績
A3: 範例 | B3: 極限運動C | C3: 林○勳 | E3: 極限一 | F3: 499999998 | G3: 黃╳芳 | H3: 女 | J3: 42 | M3: =IF($L3=1,"免",IF(ISBLANK($J3),0,IF($I3=1,VLOOKUP($J3,chart!$G$2:$H$5,2,TRUE),IF(AND('ALL (記錄)'!$J3=50,'ALL (記錄)'!$K3="A"),100,IF(AND('ALL (記錄)'!$J3=50,'ALL (記錄)'!$K3="B"),90,VLOOKUP($J3,chart!G1:H7,2,TRUE)))))) -> 55 | N3: 155 | O3: 42 | P3: 27 | Q3: 31 | R3: 175 | S3: 30 | T3: 27.5 | U3: 5 | V3: 0 | W3: =IF(ISBLANK(U3),"",(U3*60+V3)) -> 300 | X3: =IF(W3="",0,IF($H3="男",IF($W3<387,100,VLOOKUP($W3,chart!$C$2:$D$67,2,TRUE)),IF($W3<227,100,(VLOOKUP('ALL (記錄)'!$W3,chart!$A$2:$B$67,2,TRUE))))) -> 60
B4: 極限運動D | C4: 林○勳 | E4: 極限一 | F4: 499999999 | G4: 黃╳芳 | H4: 男 | I4: 1 | J4: 30 | K4: c | M4: =IF($L4=1,"免",IF(ISBLANK($J4),0,IF($I4=1,VLOOKUP($J4,chart!$G$2:$H$5,2,TRUE),IF(AND('ALL (記錄)'!$J4=50,'ALL (記錄)'!$K4="A"),100,IF(AND('ALL (記錄)'!$J4=50,'ALL (記錄)'!$K4="B"),90,VLOOKUP($J4,chart!G1:H7,2,TRUE)))))) -> 50 | N4: 165 | O4: 62 | P4: 20 | Q4: 51 | R4: 210 | S4: 50 | T4: 48.6 | U4: 7 | V4: 42 | W4: =IF(ISBLANK(U4),"",(U4*60+V4)) -> 462 | X4: =IF(W4="",0,IF($H4="男",IF($W4<387,100,VLOOKUP($W4,chart!$C$2:$D$67,2,TRUE)),IF($W4<227,100,(VLOOKUP('ALL (記錄)'!$W4,chart!$A$2:$B$67,2,TRUE))))) -> 87
B5: 極限運動H | C5: 林○勳 | E5: 極限一 | F5: 499999999 | G5: 黃╳芳 | H5: 男 | L5: 1 | M5: =IF($L5=1,"免",IF(ISBLANK($J5),0,IF($I5=1,VLOOKUP($J5,chart!$G$2:$H$5,2,TRUE),IF(AND('ALL (記錄)'!$J5=50,'ALL (記錄)'!$K5="A"),100,IF(AND('ALL (記錄)'!$J5=50,'ALL (記錄)'!$K5="B"),90,VLOOKUP($J5,chart!$G$2:$H$8,2,TRUE)))))) -> 免 | N5: 165 | O5: 54.1 | P5: 20 | Q5: 51 | R5: 210 | S5: 52.3 | T5: 48.2 | U5: 6 | V5: 42 | W5: =IF(ISBLANK(U5),"",(U5*60+V5)) -> 402 | X5: =IF(W5="",0,IF($H5="男",IF($W5<387,100,VLOOKUP($W5,chart!$C$2:$D$67,2,TRUE)),IF($W5<227,100,(VLOOKUP('ALL (記錄)'!$W5,chart!$A$2:$B$67,2,TRUE))))) -> 99
M6: =IF($L6=1,"免",IF(ISBLANK($J6),0,IF($I6=1,VLOOKUP($J6,chart!$G$2:$H$5,2,TRUE),IF(AND('ALL (記錄)'!$J6=50,'ALL (記錄)'!$K6="A"),100,IF(AND('ALL (記錄)'!$J6=50,'ALL (記錄)'!$K6="B"),90,VLOOKUP($J6,chart!$G$2:$H$8,2,TRUE)))))) -> 0 | W6: =IF(ISBLANK(U6),"",(U6*60+V6)) | X6: =IF(W6="",0,IF($H6="男",IF($W6<387,100,VLOOKUP($W6,chart!$C$2:$D$67,2,TRUE)),IF($W6<227,100,(VLOOKUP('ALL (記錄)'!$W6,chart!$A$2:$B$67,2,TRUE))))) -> 0
M7: =IF($L7=1,"免",IF(ISBLANK($J7),0,IF($I7=1,VLOOKUP($J7,chart!$G$2:$H$5,2,TRUE),IF(AND('ALL (記錄)'!$J7=50,'ALL (記錄)'!$K7="A"),100,IF(AND('ALL (記錄)'!$J7=50,'ALL (記錄)'!$K7="B"),90,VLOOKUP($J7,chart!$G$2:$H$8,2,TRUE)))))) -> 0 | W7: =IF(ISBLANK(U7),"",(U7*60+V7)) | X7: =IF(W7="",0,IF($H7="男",IF($W7<387,100,VLOOKUP($W7,chart!$C$2:$D$67,2,TRUE)),IF($W7<227,100,(VLOOKUP('ALL (記錄)'!$W7,chart!$A$2:$B$67,2,TRUE))))) -> 0
M8: =IF($L8=1,"免",IF(ISBLANK($J8),0,IF($I8=1,VLOOKUP($J8,chart!$G$2:$H$5,2,TRUE),IF(AND('ALL (記錄)'!$J8=50,'ALL (記錄)'!$K8="A"),100,IF(AND('ALL (記錄)'!$J8=50,'ALL (記錄)'!$K8="B"),90,VLOOKUP($J8,chart!$G$2:$H$8,2,TRUE)))))) -> 0 | W8: =IF(ISBLANK(U8),"",(U8*60+V8)) | X8: =IF(W8="",0,IF($H8="男",IF($W8<387,100,VLOOKUP($W8,chart!$C$2:$D$67,2,TRUE)),IF($W8<227,100,(VLOOKUP('ALL (記錄)'!$W8,chart!$A$2:$B$67,2,TRUE))))) -> 0
M9: =IF($L9=1,"免",IF(ISBLANK($J9),0,IF($I9=1,VLOOKUP($J9,chart!$G$2:$H$5,2,TRUE),IF(AND('ALL (記錄)'!$J9=50,'ALL (記錄)'!$K9="A"),100,IF(AND('ALL (記錄)'!$J9=50,'ALL (記錄)'!$K9="B"),90,VLOOKUP($J9,chart!$G$2:$H$8,2,TRUE)))))) -> 0 | W9: =IF(ISBLANK(U9),"",(U9*60+V9)) | X9: =IF(W9="",0,IF($H9="男",IF($W9<387,100,VLOOKUP($W9,chart!$C$2:$D$67,2,TRUE)),IF($W9<227,100,(VLOOKUP('ALL (記錄)'!$W9,chart!$A$2:$B$67,2,TRUE))))) -> 0
M10: =IF($L10=1,"免",IF(ISBLANK($J10),0,IF($I10=1,VLOOKUP($J10,chart!$G$2:$H$5,2,TRUE),IF(AND('ALL (記錄)'!$J10=50,'ALL (記錄)'!$K10="A"),100,IF(AND('ALL (記錄)'!$J10=50,'ALL (記錄)'!$K10="B"),90,VLOOKUP($J10,chart!$G$2:$H$8,2,TRUE)))))) -> 0 | W10: =IF(ISBLANK(U10),"",(U10*60+V10)) | X10: =IF(W10="",0,IF($H10="男",IF($W10<387,100,VLOOKUP($W10,chart!$C$2:$D$67,2,TRUE)),IF($W10<227,100,(VLOOKUP('ALL (記錄)'!$W10,chart!$A$2:$B$67,2,TRUE))))) -> 0
M11: =IF($L11=1,"免",IF(ISBLANK($J11),0,IF($I11=1,VLOOKUP($J11,chart!$G$2:$H$5,2,TRUE),IF(AND('ALL (記錄)'!$J11=50,'ALL (記錄)'!$K11="A"),100,IF(AND('ALL (記錄)'!$J11=50,'ALL (記錄)'!$K11="B"),90,VLOOKUP($J11,chart!$G$2:$H$8,2,TRUE)))))) -> 0 | W11: =IF(ISBLANK(U11),"",(U11*60+V11)) | X11: =IF(W11="",0,IF($H11="男",IF($W11<387,100,VLOOKUP($W11,chart!$C$2:$D$67,2,TRUE)),IF($W11<227,100,(VLOOKUP('ALL (記錄)'!$W11,chart!$A$2:$B$67,2,TRUE))))) -> 0
M12: =IF($L12=1,"免",IF(ISBLANK($J12),0,IF($I12=1,VLOOKUP($J12,chart!$G$2:$H$5,2,TRUE),IF(AND('ALL (記錄)'!$J12=50,'ALL (記錄)'!$K12="A"),100,IF(AND('ALL (記錄)'!$J12=50,'ALL (記錄)'!$K12="B"),90,VLOOKUP($J12,chart!$G$2:$H$8,2,TRUE)))))) -> 0 | W12: =IF(ISBLANK(U12),"",(U12*60+V12)) | X12: =IF(W12="",0,IF($H12="男",IF($W12<387,100,VLOOKUP($W12,chart!$C$2:$D$67,2,TRUE)),IF($W12<227,100,(VLOOKUP('ALL (記錄)'!$W12,chart!$A$2:$B$67,2,TRUE))))) -> 0
M13: =IF($L13=1,"免",IF(ISBLANK($J13),0,IF($I13=1,VLOOKUP($J13,chart!$G$2:$H$5,2,TRUE),IF(AND('ALL (記錄)'!$J13=50,'ALL (記錄)'!$K13="A"),100,IF(AND('ALL (記錄)'!$J13=50,'ALL (記錄)'!$K13="B"),90,VLOOKUP($J13,chart!$G$2:$H$8,2,TRUE)))))) -> 0 | W13: =IF(ISBLANK(U13),"",(U13*60+V13)) | X13: =IF(W13="",0,IF($H13="男",IF($W13<387,100,VLOOKUP($W13,chart!$C$2:$D$67,2,TRUE)),IF($W13<227,100,(VLOOKUP('ALL (記錄)'!$W13,chart!$A$2:$B$67,2,TRUE))))) -> 0
M14: =IF($L14=1,"免",IF(ISBLANK($J14),0,IF($I14=1,VLOOKUP($J14,chart!$G$2:$H$5,2,TRUE),IF(AND('ALL (記錄)'!$J14=50,'ALL (記錄)'!$K14="A"),100,IF(AND('ALL (記錄)'!$J14=50,'ALL (記錄)'!$K14="B"),90,VLOOKUP($J14,chart!$G$2:$H$8,2,TRUE)))))) -> 0 | W14: =IF(ISBLANK(U14),"",(U14*60+V14)) | X14: =IF(W14="",0,IF($H14="男",IF($W14<387,100,VLOOKUP($W14,chart!$C$2:$D$67,2,TRUE)),IF($W14<227,100,(VLOOKUP('ALL (記錄)'!$W14,chart!$A$2:$B$67,2,TRUE))))) -> 0
M15: =IF($L15=1,"免",IF(ISBLANK($J15),0,IF($I15=1,VLOOKUP($J15,chart!$G$2:$H$5,2,TRUE),IF(AND('ALL (記錄)'!$J15=50,'ALL (記錄)'!$K15="A"),100,IF(AND('ALL (記錄)'!$J15=50,'ALL (記錄)'!$K15="B"),90,VLOOKUP($J15,chart!$G$2:$H$8,2,TRUE)))))) -> 0 | W15: =IF(ISBLANK(U15),"",(U15*60+V15)) | X15: =IF(W15="",0,IF($H15="男",IF($W15<387,100,VLOOKUP($W15,chart!$C$2:$D$67,2,TRUE)),IF($W15<227,100,(VLOOKUP('ALL (記錄)'!$W15,chart!$A$2:$B$67,2,TRUE))))) -> 0
M16: =IF($L16=1,"免",IF(ISBLANK($J16),0,IF($I16=1,VLOOKUP($J16,chart!$G$2:$H$5,2,TRUE),IF(AND('ALL (記錄)'!$J16=50,'ALL (記錄)'!$K16="A"),100,IF(AND('ALL (記錄)'!$J16=50,'ALL (記錄)'!$K16="B"),90,VLOOKUP($J16,chart!$G$2:$H$8,2,TRUE)))))) -> 0 | W16: =IF(ISBLANK(U16),"",(U16*60+V16)) | X16: =IF(W16="",0,IF($H16="男",IF($W16<387,100,VLOOKUP($W16,chart!$C$2:$D$67,2,TRUE)),IF($W16<227,100,(VLOOKUP('ALL (記錄)'!$W16,chart!$A$2:$B$67,2,TRUE))))) -> 0
M17: =IF($L17=1,"免",IF(ISBLANK($J17),0,IF($I17=1,VLOOKUP($J17,chart!$G$2:$H$5,2,TRUE),IF(AND('ALL (記錄)'!$J17=50,'ALL (記錄)'!$K17="A"),100,IF(AND('ALL (記錄)'!$J17=50,'ALL (記錄)'!$K17="B"),90,VLOOKUP($J17,chart!$G$2:$H$8,2,TRUE)))))) -> 0 | W17: =IF(ISBLANK(U17),"",(U17*60+V17)) | X17: =IF(W17="",0,IF($H17="男",IF($W17<387,100,VLOOKUP($W17,chart!$C$2:$D$67,2,TRUE)),IF($W17<227,100,(VLOOKUP('ALL (記錄)'!$W17,chart!$A$2:$B$67,2,TRUE))))) -> 0
... M85: =IF($L85=1,"免",IF(ISBLANK($J85),0,IF($I85=1,VLOOKUP($J85,chart!$G$2:$H$5,2,TRUE),IF(AND('ALL (記錄)'!$J85=50,'ALL (記錄)'!$K85="A"),100,IF(AND('ALL (記錄)'!$J85=50,'ALL (記錄)'!$K85="B"),90,VLOOKUP($J85,chart!$G$2:$H$8,2,TRUE)))))) -> 0 | W85: =IF(ISBLANK(U85),"",(U85*60+V85)) | X85: =IF(W85="",0,IF($H85="男",IF($W85<387,100,VLOOKUP($W85,chart!$C$2:$D$67,2,TRUE)),IF($W85<227,100,(VLOOKUP('ALL (記錄)'!$W85,chart!$A$2:$B$67,2,TRUE))))) -> 0

Sheet chart
A1: 女800M | B1: 分數 | C1: 男1600m | D1: 分數 | E1: 游泳上 | F1: 游上分 | G1: 游泳下 | H1: 游下分 | I1: 分數
A2: 227 | B2: 100 | C2: 387 | D2: 100 | G2: 1 | H2: 35 | I2: 10
A3: 228 | B3: 99 | C3: 386 | D3: 99 | G3: 6 | H3: 40 | I3: 10
B4: 98 | D4: 98 | G4: 16 | H4: 45 | I4: 9
A5: 240 | B5: 97 | C5: 413 | D5: 97 | G5: 25 | H5: 50 | I5: 8
B6: 96 | D6: 96 | G6: 1 | H6: 35 | I6: 7
B7: 95 | D7: 95 | G7: 6 | H7: 55 | I7: 5
B8: 94 | D8: 94 | G8: 16 | H8: 60 | I8: 4
A9: 249 | B9: 93 | C9: 431 | D9: 93 | G9: 25 | H9: 65 | I9: 3
B10: 92 | D10: 92 | G10: 30 | H10: 70 | I10: 2
B11: 91 | D11: 91 | G11: 40 | H11: 75 | I11: 1
A12: 256 | B12: 90 | C12: 445 | D12: 90 | G12: 50 | H12: 80 | I12: 0
B13: 89 | D13: 89 | G13: A | H13: 90
B14: 88 | D14: 88 | G14: B | H14: 100
A15: 262 | B15: 87 | C15: 458 | D15: 87
B16: 86 | D16: 86
B17: 85 | D17: 85
B18: 84 | D18: 84
A19: 268 | B19: 83 | C19: 469 | D19: 83
B20: 82 | D20: 82
B21: 81 | D21: 81
A22: 273 | B22: 80 | C22: 479 | D22: 80
B23: 79 | D23: 79
B24: 78 | D24: 78
A25: 277 | B25: 77 | C25: 489 | D25: 77
B26: 76 | D26: 76
B27: 75 | D27: 75 | E27: 5
B28: 74 | D28: 74
A29: 272 | B29: 73 | C29: 498 | D29: 73
B30: 72 | D30: 72
B31: 71 | D31: 71
A32: 286 | B32: 70 | C32: 507 | D32: 70
B33: 69 | D33: 69
B34: 68 | D34: 68
A35: 291 | B35: 67 | C35: 516 | D35: 67
B36: 66 | D36: 66
B37: 65 | D37: 65 | E37: 15
B38: 64 | D38: 64
A39: 295 | B39: 63 | C39: 526 | D39: 63
B40: 62 | D40: 62
B41: 61 | D41: 61
A42: 300 | B42: 60 | C42: 535 | D42: 60 | E42: 20
B43: 59 | D43: 59
B44: 58 | D44: 58
A45: 305 | B45: 57 | C45: 545 | D45: 57
B46: 56 | D46: 56
B47: 55 | D47: 55 | E47: 25
B48: 54 | D48: 54
A49: 311 | B49: 53 | C49: 557 | D49: 53
B50: 52 | D50: 52
B51: 51 | D51: 51
A52: 317 | B52: 50 | C52: 569 | D52: 50
B53: 49 | D53: 49
B54: 48 | D54: 48
A55: 324 | B55: 47 | C55: 583 | D55: 47
B56: 46 | D56: 46
B57: 45 | D57: 45 | E57: 30
B58: 44 | D58: 44
A59: 332 | B59: 43 | C59: 601 | D59: 43
B60: 42 | D60: 42
B61: 41 | D61: 41
A62: 345 | B62: 40 | C62: 628 | D62: 40
B63: 39 | D63: 39
B64: 38 | D64: 38
B65: 37 | D65: 37
B66: 36 | D66: 36
B67: 35 | D67: 35 | E67: 50
